BEGIN:VCALENDAR
VERSION:2.0
METHOD:PUBLISH
BEGIN:VEVENT
UID:WILD_APRICOT_EVENT_149147_SESSION_1
DTSTART:20100428T080000Z
DTEND:20100428T110000Z
SUMMARY:Shaberanaito: Japanese Speaking Evening
LOCATION:International Nippon Australia New Zealand Club
DESCRIPTION:http://australiajapansocietyofnsw.org.au/event-149147\n\nOur last Japanese speaking night was a great success. So much so that we had to cut off acceptances early\, as all the places were filled!\n At our Japanese speaking Shabernaito\, join us for dinner and Japanese conversation together with Japanese native speakers. \n Cost includes great Japanese food. Drinks are on your own account. \n
DTSTAMP:20200302T055342Z
END:VEVENT
END:VCALENDAR
