BEGIN:VCALENDAR
VERSION:2.0
METHOD:PUBLISH
BEGIN:VEVENT
UID:WILD_APRICOT_EVENT_1704245_SESSION_1
DTSTART:20140723T080000Z
DTEND:20140723T110000Z
SUMMARY:Shaberanaito: in Japanese! 日本語でしゃべらナイト
LOCATION:International Nippon Australia New Zealand Club\, 229 Macquarie St Sydney
DESCRIPTION:http://australiajapansocietyofnsw.org.au/event-1704245\n\n'Shaberanaito'\n  Japanese-speaking night！\n  Farewell to the Nippon Club\n\n  Join us for another Japanese-speaking night. Hone your Japanese skills and meet new friends over a relaxed dinner on Wednesday 23 July.\n\n    These evenings are always popular with members of JET Alumni Association (JETAA)\, the Japanese Society of Sydney and AJS-NSW members\, but anyone is welcome so bring your friends.\n\n    All levels are welcome - don’t worry if you are just a beginner of Japanese language\, this practice session will definitely assist you.\n\n    Great Japanese food is included in the price with drinks on your own account.\n\n    Due to the closure of the Club this is the last event at this venue. Join us to say 'arigato' to this Sydney institution... and remember from 6pm it is Japanese speaking ONLY!\n  Registrations are now open. Click here for online registration and payment\, or download the form and send a cheque. \n
DTSTAMP:20200302T052739Z
END:VEVENT
END:VCALENDAR
