BEGIN:VCALENDAR
VERSION:2.0
METHOD:PUBLISH
BEGIN:VEVENT
UID:WILD_APRICOT_EVENT_1767493_SESSION_1
DTSTART:20141015T080000Z
DTEND:20141015T103000Z
SUMMARY:Shaberanaito: in Japanese 日本語でしゃべらナイト
LOCATION:Daruma Japanese Restaurant\,  Prince Centre  Level 1\, 8 Quay St Haymarket
DESCRIPTION:http://australiajapansocietyofnsw.org.au/event-1767493\n\n'Shaberanaito'\n  Japanese-speaking night！\n  日本語でしゃべらナイト\n\n  A new tasty venue\n\n  The closure of our regular venue has led us to find a new restaurant for our popular Japanese-speaking night. Join us for a relaxed dinner on Wednesday 15 October at  Daruma Japanese restaurant in Haymarket.\n\n    The format will be the same as usual: set dinner in mixed small groups. Anyone is welcome\, and the atmosphere is friendly. (Don't worry if you are rusty or a beginner - this practice session will be fun!)\n\n  Join members of AJS-NSW\, JET Alumni Association (JETAA)\, and the Japanese Society of Sydney and feel free to bring other friends.\n\n      The price includes good Japanese food\, with drinks on your own account. Remember from 7pm it is Japanese speaking ONLY!\n  Registrations are now open. Click here to register and pay\, or download the form and send a cheque. \n
DTSTAMP:20200302T052635Z
END:VEVENT
END:VCALENDAR
