BEGIN:VCALENDAR
VERSION:2.0
METHOD:PUBLISH
BEGIN:VEVENT
UID:WILD_APRICOT_EVENT_177304_SESSION_1
DTSTART:20101118T073000Z
DTEND:20101118T092959Z
SUMMARY:Sumo Watching Party
LOCATION:Menzies Hotel\, Sporters Bar\, Carrington St Sydney
DESCRIPTION:http://australiajapansocietyofnsw.org.au/event-177304\n\nJoin Sumo fans and AJS members for this year's Sumo Watching party. \n Follow the action streamed live on a big screen while enjoying drinks\, snacks and conversation. \n Your entry includes a chance to pick a winner from your favourite Sumo wrestlers. Prizes will be awarded. \n Two drinks and finger food are included in the price. \n \n\n Sign up by downloading the form here\nand Fax\, mail or email as directed on the form.\n\n
DTSTAMP:20200302T055112Z
END:VEVENT
END:VCALENDAR
