BEGIN:VCALENDAR
VERSION:2.0
METHOD:PUBLISH
BEGIN:VEVENT
UID:WILD_APRICOT_EVENT_226211_SESSION_1
DTSTART:20101104T010000Z
DTEND:20101104T060000Z
SUMMARY:External Event: Nagoya Day
LOCATION:Customs House Square\, Sydney
DESCRIPTION:http://australiajapansocietyofnsw.org.au/event-226211\n\nHelp celebrate the 30th anniversary of the Sister City relationship between Nagoya and Sydney\, by enjoying an afternoon of Samurai and calligraphy performances. \n \n\n For details see here. This event is sponsored by the City of Nagoya and the information is provided for the benefit of members and friends. \n
DTSTAMP:20200302T055205Z
END:VEVENT
END:VCALENDAR
