BEGIN:VCALENDAR
VERSION:2.0
METHOD:PUBLISH
BEGIN:VEVENT
UID:WILD_APRICOT_EVENT_226215_SESSION_1
DTSTART:20101121T130000Z
DTEND:20101128T130000Z
SUMMARY:Japanese Film Festival
LOCATION:Sydney\, Event Cinemas\, George St
DESCRIPTION:http://australiajapansocietyofnsw.org.au/event-226215\n\nThe 14th Japanese Film Festival will be held in Sydney between Nov. 22 - 28. \nSee http://14th.japanesefilmfestival.net/ for details. \nThis is an external event\, information of which is provided for the benefit of members and friends. \n\n\n
DTSTAMP:20200302T055059Z
END:VEVENT
END:VCALENDAR
