BEGIN:VCALENDAR
VERSION:2.0
METHOD:PUBLISH
BEGIN:VEVENT
UID:WILD_APRICOT_EVENT_234206_SESSION_1
DTSTART:20101118T011500Z
DTEND:20101118T044959Z
SUMMARY:Supported Event: Australia & Japan Economic Outlook Conference
LOCATION:Shangri-La Hotel\, The Rocks\, Sydney
DESCRIPTION:http://australiajapansocietyofnsw.org.au/event-234206\n\nThe annual Australia & Japan Economic Outlook Conference for 2010 features a number of eminent speakers discussing the economic prospects for Australia and Japan in the coming year. \n Speakers include:-\n       * Mr. Rintaro TAMAKI\, Vice Minister of Finance for International Affairs\, MINISTRY OF FINANCE\, JAPAN\n\n     * Mr Alan OSTER\, Group Chief Economist\, NAB\n\n     * Mr Michael CALLAGHAN\, Deputy Secretary\, Australian Treasury\n\n     * Dr Jammie PENM\, Chief Commodity Analyst\, ABARE\n\n     * Dr Shujiro URATA\, Professor of Economics\, Graduate School of Asia-Pacific Studies\, Waseda University \n\n\n     The conference will be preceded by lunch. For details see here. To sign up\, contact the organizers\, Australian & Japanese Economic Intelligence (AJEI) directly. \n
DTSTAMP:20200302T055137Z
END:VEVENT
END:VCALENDAR
