BEGIN:VCALENDAR
VERSION:2.0
METHOD:PUBLISH
BEGIN:VEVENT
UID:WILD_APRICOT_EVENT_236206_SESSION_1
DTSTART:20101124T030000Z
DTEND:20101124T060000Z
SUMMARY:Supported Event: Kanagawa Business Seminar
LOCATION:Radission Plaza Hotel\, 27 O'Connell St\, Sydney
DESCRIPTION:http://australiajapansocietyofnsw.org.au/event-236206\n\nInnovation in Japan is the topic of a seminar held on the occasion of the visit by the governor of Kanagawa Prefecture\, Mr. Shigefumi Matsuzawa. \n Specifically the seminar will introduce Kanagawa as a location for Australian investment and collaboration in advanced R&D. Kanagawa boasts excellent R&D facilities and some of Japan's most successful companies. \n Speakers include:-\n       * Dr. Osamu Kumagai - Senior Vice President\, Sony Corporation and Chairman of the Kanagawa R&D Network \n\n Dr. Kumagai will be speaking about open innovation\n     * Trent Rowe\, Group General Manager Product & Marketing\, Ceramic Fuel Cells Limited \n\n Mr. Rowe will discuss and share CFCL experiences in technology development within Japan's burgeoning cleantech industry\n     * Professor Gordon Wallace\, Executive Director\, ARC Centre of Excellence for Electromaterials Science | Intelligent Polymer Research Institute \n\n Hear Professor Wallace speak about Nanostructured Electromaterials for Energy conversion/Storage and Medical Bionics\, along with his business experience with Japan     Networking cocktails will follow the presentations. For details see here. Registration is required although the seminar is free of charge. \n
DTSTAMP:20200302T055036Z
END:VEVENT
END:VCALENDAR
