BEGIN:VCALENDAR
VERSION:2.0
METHOD:PUBLISH
BEGIN:VEVENT
UID:WILD_APRICOT_EVENT_259145_SESSION_1
DTSTART:20110130T130000Z
DTEND:20110224T130000Z
SUMMARY:Supported event: Japanese language classes
LOCATION:Japan Foundation offices\, Sydney CBD
DESCRIPTION:http://australiajapansocietyofnsw.org.au/event-259145\n\nAJS-NSW is pleased to advise members of Japanese language classes available at the Japan Foundation. These classes are held in the Sydney CBD and are available for a range of proficiency levels.\n \n Details are below. Please contact the Japan Foundation directly for signup.\n \n Advanced Course - extended deadline!\nTuesdays\, 1-Feb to 22-Mar (8 lessons)\n Application deadline Tuesday 18th January\n \n Intermediate Course  - extended deadline!\n Thursdays\, 3-Feb to 7-Apr(10 lessons)\n Application deadline Tuesday 18th January\n  \n Beginners II Course - be quick deadline approaching!\n Mondays 31-Jan to 4-Apr (10 lessons)\n Application deadline Monday 10th January\n \n Beginners' I Course - be quick deadline approaching!\n Tuesdays 1-Feb to 5-Apr (10 lessons)\n Application deadline Tuesday 11th January\n \n Further information and application forms are available on the Japan Foundation website. Please visit\n \n www.jpf.org.au/03_language/jlc2011-public.htm\n \n or email: jcourse@jpf.org.au
DTSTAMP:20200302T055025Z
END:VEVENT
END:VCALENDAR
