BEGIN:VCALENDAR
VERSION:2.0
METHOD:PUBLISH
BEGIN:VEVENT
UID:WILD_APRICOT_EVENT_285615_SESSION_1
DTSTART:20110312T060000Z
DTEND:20110312T060000Z
SUMMARY:Sound of Beauty Concert
LOCATION:Sydney Conservatorium of Music\, West Recital Hall
DESCRIPTION:http://australiajapansocietyofnsw.org.au/event-285615\n\n \nThe Sisters Kaori and Yuko Duo Concert.\n \nSorry\, FREE Tickets have been taken\n\n  AJS-NSW members have been offered a small number of complimentary tickets to this classical concert. Sisters Kaori Fujii (flute) and Yuko Isoda (piano) are well known in Japan\, Kaori as one of the top flutists in Japan\, and Yuko as a piano soloist and chamber musician.\n \n The program features Borne's Carmen Fantasie and Minoru Kainuma's Sato no Aki.\n \n For more details see the flyer here. Sign up online but be quick as there are only 12 tickets.\n \n
DTSTAMP:20200302T055000Z
END:VEVENT
END:VCALENDAR
