BEGIN:VCALENDAR
VERSION:2.0
METHOD:PUBLISH
BEGIN:VEVENT
UID:WILD_APRICOT_EVENT_291970_SESSION_1
DTSTART:20110322T073000Z
DTEND:20110322T092959Z
SUMMARY:Supported Event: Fantasy and Imagination: Exploring Japanese Creative Writings
LOCATION:Sydney University\, Education Bldg\, Lecture Room 351
DESCRIPTION:http://australiajapansocietyofnsw.org.au/event-291970\n\nAJS-NSW is pleased to bring to the attention of members another fascinating cultural seminar sponsored by the Japan Foundation.\n \n Exploring the roots of the Japanese imagination as expressed in popular culture such as manga and anime\, the seminar will feature three speakers who will share their personal experiences of how they became fans of Japanese literature.\n \n Speakers Dr Carol Hayes\, Edward Lipsett\, and Roger Pulvers will guide you through the amazing world of Japanese fantasy novels.\n \n For details see here. Registration is required although the seminar is free of charge. 
DTSTAMP:20200302T054941Z
END:VEVENT
END:VCALENDAR
