BEGIN:VCALENDAR
VERSION:2.0
METHOD:PUBLISH
BEGIN:VEVENT
UID:WILD_APRICOT_EVENT_300494_SESSION_1
DTSTART:20110411T140000Z
DTEND:20110412T140000Z
SUMMARY:Supported event:Exploring Japanese language and culture- J-movie “Departures”
LOCATION:Japan Foundation offices\, Sydney CBD
DESCRIPTION:http://australiajapansocietyofnsw.org.au/event-300494\n\nThe Japan Foundation\, Sydney\, is offering a special Japanese course from 12 to 21 April 2011 (4 sessions).\n \n Places are limited and filling fast\, enrol now. Applications close on Monday 4th April.\n \n This course is for all people with a working knowledge of Japanese who are interested in Japanese language\, culture and film\, including Japanese native speakers.\n \n Participants will gain an appreciation of the J-movie ‘Departures’\, and have the opportunity to try their hand at voice acting and narration. \n \n This course is suitable for learners in the Advanced level (equivalent to 3 year’s university course\, JLPT N2). Native speakers are also welcome!\n \n Further information and application forms are available on the Japan Foundation website. Please visit\n \n http://www.jpf.org.au/jpfevents/11-departures/index.html\n
DTSTAMP:20200302T054926Z
END:VEVENT
END:VCALENDAR
