BEGIN:VCALENDAR
VERSION:2.0
METHOD:PUBLISH
BEGIN:VEVENT
UID:WILD_APRICOT_EVENT_315316_SESSION_1
DTSTART:20110429T090000Z
DTEND:20110429T090000Z
SUMMARY:Japan Earthquake and Tsunami Charity Concert
LOCATION:Willoughby Uniting Church 10 Clanwilliam St\, Willoughby\, NSW
DESCRIPTION:http://australiajapansocietyofnsw.org.au/event-315316\n\n \nSupport the Australian Red Cross in its assistance to Northern Japan disaster regions\n Young musicians have come together to share their music to support the Japan earthquake & tsunami disaster.\n All proceeds will be donated to Australian Red Cross Japan disaster appeal.\n \n The program includes solo and duo violin music by Bach\, Paganini\, Wieniawski\, Tchaikovsky\, Dvorak and Sarasate.\n \n Special guest performer is the award-winning Chinese violinist\, Jiafeng Chen. We are very privileged to have the opportunity for hear his live performance.\n \n The young performers from Sydney are Kako Miura\, Harry Ward\, Josephine Chung\, Sunny Xia on violins\, and Ying Ho on the piano.\n \n Click flyer here for details.\n \n  \n
DTSTAMP:20200302T054818Z
END:VEVENT
END:VCALENDAR
