BEGIN:VCALENDAR
VERSION:2.0
METHOD:PUBLISH
BEGIN:VEVENT
UID:WILD_APRICOT_EVENT_324103_SESSION_1
DTSTART:20110814T010000Z
DTEND:20110814T050000Z
SUMMARY:Sake and Ume-shu Tasting with Angus Beef BBQ
LOCATION:Sun Masamune\, Penrith
DESCRIPTION:http://australiajapansocietyofnsw.org.au/event-324103\n\nSake Tasting & Angus Beef BBQ under the Plum Blossoms\n\n   \n     Sun Masamune\, makers of Go-Shu Australian sake and Australia's own ume-shu\, will be the venue for a sake tasting and Angus beef BBQ party.\n    \n\n    The plum blossom should be in bloom at this time\, so there is a chance for a stroll under the blossoms. We will be given a guided tour of the brewery and have a chance to sample sakes of different styles made in Penrith. \n    \n\n    A BBQ catered by one of Sydneys top Japanese chefs is included\, based on Angus beef steaks sourced from a well-regarded ranch.\n\n    \n\n    Participants should travel to Penrith either by car or train *approx. one hour from Central\, with direct connections from Chatswood. The brewery is a short taxi ride from Penrith station. Maps and timetables will be provided once you sign-up.\n\n    \n\n    Proceeds after covering costs will go to the ongoing Tohoku Disaster Appeal.\n    \n\n    For a flyer and form for fax signup\, click here. You can also sign up and PAY online.\n\n    \n\n    \n\n    \n\n   \n\n   \n   \n
DTSTAMP:20200302T054701Z
END:VEVENT
END:VCALENDAR
