BEGIN:VCALENDAR
VERSION:2.0
METHOD:PUBLISH
BEGIN:VEVENT
UID:WILD_APRICOT_EVENT_374262_SESSION_1
DTSTART:20120322T064500Z
DTEND:20120322T093000Z
SUMMARY:Annual Sumo Party 大相撲大阪春場所の観戦パーティ
LOCATION:Hotel Menzies Sporters Bar
DESCRIPTION:http://australiajapansocietyofnsw.org.au/event-374262\n\nOur annual Sumo party is back!\n  \n大相撲大阪春場所\n  Sumo had a tough year in 2011. Scandal caused one tournament to be cancelled\, the fans stayed away and the Mongolians had carried off the Emperor's Cup every tournament since mid-2008. It was starting to look predictable. But then two Japanese-born wrestlers were promoted to ozeki rank\, the first locals to achieve the distinction for years. And to top it off\, popular Estonian wrestler Baruto (Balt) won the first tournament of 2012. Once again\, anything is possible....\n  Join AJS members and friends to follow the action streamed live on a big screen while enjoying drinks\, snacks and conversation. Two drinks and finger food are included in the price.\n\nRegister and pay online (preferred\, credit card details can be entered even if you are not a PayPal member) or download a form here and fax.\n
DTSTAMP:20200302T054451Z
END:VEVENT
END:VCALENDAR
