BEGIN:VCALENDAR
VERSION:2.0
METHOD:PUBLISH
BEGIN:VEVENT
UID:WILD_APRICOT_EVENT_392157_SESSION_1
DTSTART:20111110T070000Z
DTEND:20111110T100000Z
SUMMARY:Shaberanaito: Japanese Speaking Evening
LOCATION:International Nippon Australia New Zealand Club\, 229 Macquarie St Sydney
DESCRIPTION:http://australiajapansocietyofnsw.org.au/event-392157\n\n日本語でしゃべらナイト！\n\n  Our Japanese speaking night returns! Join members of JET Alumni Association\, the Japanese Society of Sydney and fellow AJS-NSW members and friends for a fun evening of dinner and Japanese conversation with Japanese native speakers.\n\n  Last year's Shaberanaito was so successful that we had to cut off acceptances early\, as all the places were filled!\n  All levels of Japanese language are welcome - don't worry if you are just a beginner\, it’s a friendly practice session where you’ll hopefully be able to make some new friends. From 6pm\, though - it's "Japanese-speaking only!".\n\n  Cost includes great Japanese food. Drinks are on your own account. G’Day Japan will also be kindly offering a Door Prize so don’t forget to bring your business cards.\n  Registration is now open\, so signup and pay ONLINE (credit card or PayPal) or click the form here for fax registration and offline payment.\n\n
DTSTAMP:20200302T054611Z
END:VEVENT
END:VCALENDAR
