BEGIN:VCALENDAR
VERSION:2.0
METHOD:PUBLISH
BEGIN:VEVENT
UID:WILD_APRICOT_EVENT_395667_SESSION_1
DTSTART:20111124T033000Z
DTEND:20111124T073000Z
SUMMARY:Supported Event: Australia & Japan Economic Outlook Conference
LOCATION:Sofitel Wentworth Hotel\, Sydney
DESCRIPTION:http://australiajapansocietyofnsw.org.au/event-395667\n\nThe annual Australia & Japan Economic Outlook Conference for 2011 features a number of eminent economists discussing the outlooks for the economies of   Australia and Japan respectively. \n  Speakers include:-\n          * PERSPECTIVE ON INTERNATIONAL FINANCE AND THE JAPANESE ECONOMY   Takehiko NAKAO\, Vice Minister of Finance for International Affairs\, MINISTRY OF FINANCE\, JAPAN\n\n      * AUSTRALIAN ECONOMIC OUTLOOK    Mr Saul ESLAKE\, Program Director\, Productivity\, GRATTAN INSTITUTE\n\n      * INTERNATIONAL ECONOMIC DEVELOPMENTS    Mr Michael CALLAGHAN\, Deputy Secretary\, AUSTRALIAN TREASURY\n\n      * OUTLOOK FOR COMMODITIES & ENERGY ( TBC)   Mr Mark PERVAN\, Head of Commodity Research\, ANZ Bank\n\n          The conference will be followed by cocktail drinks. For details click here. To sign up\, contact the organizers\, Australian & Japanese Economic Intelligence (AJEI) directly. \n
DTSTAMP:20200302T054548Z
END:VEVENT
END:VCALENDAR
