BEGIN:VCALENDAR
VERSION:2.0
METHOD:PUBLISH
BEGIN:VEVENT
UID:WILD_APRICOT_EVENT_440561_SESSION_1
DTSTART:20120229T223000Z
DTEND:20120302T060000Z
SUMMARY:Supported Event: University of Sydney Law School - Disaster Prevention and Management
LOCATION:University of Sydney Law School\, Building F10\, Eastern Avenue
DESCRIPTION:http://australiajapansocietyofnsw.org.au/event-440561\n\n\nSocio-legal norms in preventing and managing disasters in Japan and the Asia-Pacific\n  The University of Sydney\, Sydney Law School\, has offered AJS-NSW members the opportunity to attend the above 2-day conference\, at a discounted price.\n\n  This conference compares the preparedness for large-scale disasters and subsequent responses in Japan\, focusing on the '3-11' events: the earthquake and tsunami that devastated north-east Japan on 11 March 2011 and the Fukushima Daiichi nuclear power plant radiation leaks.\n\n  We will explore whether and how socio-legal norms may have differed significantly within Japan regarding the former\, primarily a natural disaster\; compared to the latter\, a 'man-made' or artificial disaster.\n\n  Over two days there will be a number of presentations and discussions from eminent experts from a number of countries and perspectives. \n          Members can find out more\, register and pay at the Sydney Law School site here. To access the discount sign up as a AJS-NSW member.\n\n
DTSTAMP:20200302T054537Z
END:VEVENT
END:VCALENDAR
