BEGIN:VCALENDAR
VERSION:2.0
METHOD:PUBLISH
BEGIN:VEVENT
UID:WILD_APRICOT_EVENT_450038_SESSION_1
DTSTART:20120404T080000Z
DTEND:20120404T110000Z
SUMMARY:Shaberanaito: English-Speaking Only!　英語でしゃべらナイト
LOCATION:International Nippon Australia New Zealand Club\, 229 Macquarie St Sydney
DESCRIPTION:http://australiajapansocietyofnsw.org.au/event-450038\n\nEnglish 'Shaberanaito'\n  今度は英語でしゃべらナイト！\n\n  Our last Japanese speaking Shaberanaito was very popular! This time it will be the same format but 'ENGLISH-speaking ONLY'.\n\n  Join members of JET Alumni Association\, the Japanese Society of Sydney and fellow AJS-NSW members and friends for a fun evening of dinner and English conversation with a Japanese theme.\n\n  Invite your friends and plan to make new ones...All levels of English are welcome.\n\n  Cost includes great Japanese food. Drinks are on your own account. We plan a Door Prize so don’t forget to bring your business cards.\n  To register\, sign up and pay online OR use the form here and mail with credit card details or cheque by the due date.\n\n  We are planning another Japanese-speaking night later in the year so watch this space..!\n\n
DTSTAMP:20200302T054359Z
END:VEVENT
END:VCALENDAR
