BEGIN:VCALENDAR
VERSION:2.0
METHOD:PUBLISH
BEGIN:VEVENT
UID:WILD_APRICOT_EVENT_464376_SESSION_1
DTSTART:20120327T050000Z
DTEND:20120327T073000Z
SUMMARY:Supported Event: Austrade-JETRO "Opening the Door to Business with Japan"
LOCATION:JETRO Sydney\, L19\, 39 Martin Place\, Sydney
DESCRIPTION:http://australiajapansocietyofnsw.org.au/event-464376\n\n\n\n  \nAUSTRADE – JETRO JAPAN SEMINAR\n“Opening the Door to Business with Japan"  AJS-NSW is a co-sponsor of this event. \n\n  Why Japan?\n  Japan is still the world’s third largest market which presents a vast number of opportunities in almost any sector. This seminar will highlight where the opportunities lie\, and also tell you how to make the most of those opportunities.\n  What are the keys to unlocking the door to business with Japan?\n  Experts will present and discuss Japanese economic trends\, trade markets and other projections to positively encourage you if you are thinking about how to approach the enigma of Japan. \nPresentations will be followed by a networking reception.\n \n For details of the programme and speakers\, see the flyer here.\n \n Attendance is free but registration is required. To register phone 02 9002 6218\, or email syd‐bd@jetro.go.jp by Thursday 22 March\, 2012.\n
DTSTAMP:20200302T054423Z
END:VEVENT
END:VCALENDAR
