BEGIN:VCALENDAR
VERSION:2.0
METHOD:PUBLISH
BEGIN:VEVENT
UID:WILD_APRICOT_EVENT_476028_SESSION_1
DTSTART:20120601T080000Z
DTEND:20120601T102000Z
SUMMARY:Supported Event: Japanese culture evening - Inoue Yasushi Award and Concert
LOCATION:Conservatorium of Music\, Music Workshop
DESCRIPTION:http://australiajapansocietyofnsw.org.au/event-476028\n\n   Inoue Yasushi & Silk Road/Dunhuang – Music\, Photograph Screening & Poetry Reading\n \n Join AJS members and friends at a Japanese culture event to celebrate the winner of the 6th Inoue Yasushi Award\, presented annually to an outstanding researcher in Japanese literature by the Inoue Yasushi Memorial Foundation.\n \n Inoue Yasushi (1907-91) was one of Japan's most popular postwar writers\, known for his historical fiction set in Japan and western China. His novels Lou-Lan and Tun-huang (Dunhuang) received the Mainichi Art Award in 1960.\n \n The Inoue Yasushi Award for Outstanding Research in Japanese Literature in Australia and New Zealand was inaugurated in 2007. This annual award is for the best refereed journal article or book chapter published in English during the previous year by a researcher based in Australia or New Zealand.\n \n The Inoue Yasushi Memorial Foundation & AJS board member Mr. Ohtani established the award in order to support and encourage research into Japanese literature in Australia.\n \n This event is free but bookings are essential. For more details see the flyers here: English flyer /Japanese flyer. RSVP directly via the form at http://inoueyasushi.org\n
DTSTAMP:20200302T054320Z
END:VEVENT
END:VCALENDAR
