BEGIN:VCALENDAR
VERSION:2.0
METHOD:PUBLISH
BEGIN:VEVENT
UID:WILD_APRICOT_EVENT_499920_SESSION_1
DTSTART:20120704T080000Z
DTEND:20120704T110000Z
SUMMARY:Shaberanaito: in Japanese! 日本語でしゃべらナイト
LOCATION:International Nippon Australia New Zealand Club\, 229 Macquarie St Sydney
DESCRIPTION:http://australiajapansocietyofnsw.org.au/event-499920\n\n'Shaberanaito'\n  Japanese-speaking night！\n  Back by popular demand! This time from 6pm it will be Japanese speaking ONLY.\n\n  Join members of JET Alumni Association\, the Japanese Society of Sydney and fellow AJS-NSW members and friends for a fun evening of dinner and Japanese conversation.\n\n  Invite your friends and plan to make new ones...Don't worry if you are a beginner\, all levels are welcome.\n  But this time we will also have an English-only table\, for those who wish to focus on English conversation practice or take a break from Japanese.\n\n  Great Japanese food is included in the price but drinks are on your own account. And there will be a door prize!\n  So sign up now and plan to spend July 4 speaking Japanese!\n\n  \n\n
DTSTAMP:20200302T054230Z
END:VEVENT
END:VCALENDAR
