BEGIN:VCALENDAR
VERSION:2.0
METHOD:PUBLISH
BEGIN:VEVENT
UID:WILD_APRICOT_EVENT_500749_SESSION_1
DTSTART:20120710T080000Z
DTEND:20120710T100000Z
SUMMARY:University Awards & Presentation by Consul-General 'Issues in Japan and the Australia-Japan relationship'
LOCATION:Tresscox\, 135 King St Sydney (20F)
DESCRIPTION:http://australiajapansocietyofnsw.org.au/event-500749\n\nHelp celebrate our university awardees with guest speaker the Consul-General of Japan Dr. Kohara.\n\n  AJS-NSW offers awards to outstanding students of Japanese at a number of NSW universities. This year we have expanded our awards to include more universities in the Sydney region.\n\n  This year our awards ceremony will feature as guest speaker\,  Dr. Masahiro Kohara\, Consul-General of Japan in Sydney\, and co-patron of the Society (along with the Premier of NSW).\n  Consul-General Kohara will make some remarks on the topic 'Issues in Japan and the Australia-Japan Relationship'.\n\n  The outstanding students will receive their awards in company of their professors and AJS members and friends. The guest remarks and awards ceremony will be followed by a networking reception.\n\n  We look forward to welcoming members and friends and especially our awardees and their lecturers to what promises to be a lively evening.\n\n  Registrations are now open so sign up online here (secure payment by credit card or Paypal) or post the attached sheet.\n\n
DTSTAMP:20200302T054136Z
END:VEVENT
END:VCALENDAR
