BEGIN:VCALENDAR
VERSION:2.0
METHOD:PUBLISH
BEGIN:VEVENT
UID:WILD_APRICOT_EVENT_559050_SESSION_1
DTSTART:20121101T070000Z
DTEND:20121101T100000Z
SUMMARY:Shaberanaito: in Japanese! 日本語でしゃべらナイト
LOCATION:International Nippon Australia New Zealand Club\, 229 Macquarie St Sydney
DESCRIPTION:http://australiajapansocietyofnsw.org.au/event-559050\n\n'Shaberanaito'\n  Japanese-speaking night！\n  Back by popular demand! This time from 6pm it will be Japanese speaking ONLY.\n\n  Join members of JET Alumni Association\, the Japanese Society of Sydney and fellow AJS-NSW members and friends for a fun evening of dinner and Japanese conversation.\n\n  Past events were popular with new friends being made and old acquaintances re-kindled.\n\n  Great Japanese food is included in the price but drinks are on your own account. There will be door prizes and more!\n  So sign up now for another fun night speaking Japanese!\nRegistration and payment can be made simply online\, or download the form and post a cheque.   \n\n
DTSTAMP:20200302T053953Z
END:VEVENT
END:VCALENDAR
