BEGIN:VCALENDAR
VERSION:2.0
METHOD:PUBLISH
BEGIN:VEVENT
UID:WILD_APRICOT_EVENT_568279_SESSION_1
DTSTART:20121126T070000Z
DTEND:20121126T083000Z
SUMMARY:AJS-NSW AGM (Annual General Meeting)
LOCATION:Tresscox 20F King St Sydney
DESCRIPTION:http://australiajapansocietyofnsw.org.au/event-568279\n\nMembers are invited to the Annual General meeting of the Society.\n \n The meeting will be followed by refreshments.\n \n AGM papers will be sent by mail in coming weeks.\n \n There is no charge for the meeting but for catering purposes\, please register your attendance.\n
DTSTAMP:20200302T053938Z
END:VEVENT
END:VCALENDAR
