BEGIN:VCALENDAR
VERSION:2.0
METHOD:PUBLISH
BEGIN:VEVENT
UID:WILD_APRICOT_EVENT_586460_SESSION_1
DTSTART:20121208T080000Z
DTEND:20121208T113000Z
SUMMARY:Watch Baseball - Sydney Blue Sox vs Canberra Cavalry - with Hanshin players
LOCATION:Blacktown International Ballpark
DESCRIPTION:http://australiajapansocietyofnsw.org.au/event-586460\n\nBaseball\n\n   \n     Watch two of Australia's best baseball teams (one with Japanese players from Hanshin) fight it out in the Australian Baseball League series.\n   \n   Our last social event of the year is a trip to enjoy a baseball game: The Sydney Blue Sox vs Canberra Cavalry at Blacktown International Sportspark.\n   \n   Canberra Cavalry is currently hosting three Japanese players from the Hanshin Tigers: left handed pitcher Masanori Fujihara\, right handed pitcher Hirokazu Shiranita\, and outfielder Koei Shibata.\n   Every year a number of Japanese players come to Australia to join the ABL series.\n   \n   We will have use of a function room above the third base dugout with catering (roasts and salads) included in the price. There will be a cash bar.\n   \n   The Blacktown Ballpark is 40 minutes from central Sydney\, close to the M4 Expressway. For those without own transport we will try to arrange lifts\, or a shuttle bus runs from the nearest train station (Rooty Hill on Western line).\n    \n\nSign up and pay online\, or download the form here. We do need confirmation of numbers by November 30.\n   \n   See here for information on the Australian Baseball League : http://web.theabl.com.au/index.jsp\n    \n\n    \n\n   \n\n   \n   \n
DTSTAMP:20200302T053853Z
END:VEVENT
END:VCALENDAR
