BEGIN:VCALENDAR
VERSION:2.0
METHOD:PUBLISH
BEGIN:VEVENT
UID:WILD_APRICOT_EVENT_634202_SESSION_1
DTSTART:20130306T070000Z
DTEND:20130306T100000Z
SUMMARY:Shaberanaito: in Japanese! 日本語でしゃべらナイト
LOCATION:International Nippon Australia New Zealand Club\, 229 Macquarie St Sydney
DESCRIPTION:http://australiajapansocietyofnsw.org.au/event-634202\n\n'Shaberanaito'\n  Japanese-speaking night！\n  Hone your Japanese skills and make new friends at the first Shaberanaito for 2013! Again from 6pm it will be Japanese speaking ONLY.\n\n  Join members of JET Alumni Association\, the Japanese Society of Sydney and fellow AJS-NSW members and friends for a fun evening of dinner and Japanese conversation.\n\n  Past events have always been popular so early signup is recommended.\n\n  Great Japanese food is included in the price but drinks are on your own account. Lucky door prizes will be awarded. (Please email us if you would like to sponsor or provide a door prize).\n\n  So sign up now for another fun night speaking Japanese!\nRegistration and payment can be made simply online\, or download the form and post a cheque. 
DTSTAMP:20200302T053831Z
END:VEVENT
END:VCALENDAR
