BEGIN:VCALENDAR
VERSION:2.0
METHOD:PUBLISH
BEGIN:VEVENT
UID:WILD_APRICOT_EVENT_655468_SESSION_1
DTSTART:20130404T033000Z
DTEND:20130404T080000Z
SUMMARY:Supported Event: Australia\, Japan & Intl Economic Outlook Seminar
LOCATION:Ashurst\, Level 36 225 George St Sydney
DESCRIPTION:http://australiajapansocietyofnsw.org.au/event-655468\n\nAJS supports an upcoming Australia & Japan Economic Outlook Seminar 2013 which features a number of eminent economists discussing the outlooks for the economies of Australia and Japan and their interaction internationally. \n  Speakers include:-\n          * JAPANESE ECONOMY AND “ABENOMICS”   Mr Mikio KAJIKAWA\, Deputy Vice Minister of Finance for International Affairs\, MINISTRY OF FINANCE\, JAPAN\n\n      * CENTRAL BANKS AND GLOBAL CURRENCY MARKETS Mr Bill EVANS\, Chief Economist\, WESTPAC\n\n      * AUSTRALIA: ECONOMIC AND FINANCIAL OUTLOOK Mr Ivan COLHOUN\, Head of Australian Economics\, ANZ\n\n      * INTERNATIONAL ECONOMIC DEVELOPMENTS Mr Jason MCDONALD\, General Manager\, International\, AUSTRALIAN TREASURY\n\n          The conference will be followed by cocktail drinks. For details see here. To sign up\, contact the organizers\, Australian & Japanese Economic Intelligence (AJEI) directly. \n
DTSTAMP:20200302T053803Z
END:VEVENT
END:VCALENDAR
