BEGIN:VCALENDAR
VERSION:2.0
METHOD:PUBLISH
BEGIN:VEVENT
UID:WILD_APRICOT_EVENT_671473_SESSION_1
DTSTART:20130521T080000Z
DTEND:20130521T100000Z
SUMMARY:University Awards & Presentation 'Japan is Back!' by Consul-General of Japan in Sydney Dr. Kohara
LOCATION:TressCox\, MLC Centre\, Sydney 16F
DESCRIPTION:http://australiajapansocietyofnsw.org.au/event-671473\n\nHelp celebrate our university awardees with guest speaker the Consul-General of Japan in Sydney Dr. Masahiro Kohara.\n  AJS-NSW offers awards to outstanding students of Japanese at six NSW universities: the Universities of Sydney\, NSW\, Western Sydney\, Wollongong\, Macquarie and UTS.  This event is a special event attended by the awardees and their teachers\, with wide support from the entire community encouraging the teaching of Japanese and supporting the Australia-Japan relationship.\n    In addition\, the Society's patron Consul-General Dr. Kohara will present on the topic of the new 'ABENOMICS' economic policies of Prime Minister Abe. The awards ceremony will be followed by a networking reception.\n\n  We look forward to welcoming members and friends and especially our awardees and their lecturers to what promises to be a lively evening.\n\n  Registrations are now open so sign up online (secure payment by credit card or Paypal) or post the attached form. \n\n  \n\n
DTSTAMP:20200302T053727Z
END:VEVENT
END:VCALENDAR
