BEGIN:VCALENDAR
VERSION:2.0
METHOD:PUBLISH
BEGIN:VEVENT
UID:WILD_APRICOT_EVENT_721827_SESSION_1
DTSTART:20130808T080000Z
DTEND:20130808T110000Z
SUMMARY:Shaberanaito: in Japanese! 日本語でしゃべらナイト
LOCATION:International Nippon Australia New Zealand Club\, 229 Macquarie St Sydney
DESCRIPTION:http://australiajapansocietyofnsw.org.au/event-721827\n\n'Shaberanaito'\n  Japanese-speaking night！\n  Hone your Japanese skills with old and new friends at the next Shaberanaito. Again from 6pm on Thursday August 8th it will be Japanese speaking ONLY.\n\n  Join members of JET Alumni Association\, the Japanese Society of Sydney and fellow AJS-NSW members and friends for a fun evening of dinner and Japanese conversation.\n\n  Past events are always been popular so early signup is recommended.\n\n  Great Japanese food is included in the price but drinks are on your own account. We have two fabulous lucky door prizes  - including a mystery flight prize!\n\n  So sign up now for another fabulous night speaking Japanese!\nRegistration and payment can be made simply online (click here)\, or download the form and post a cheque. 
DTSTAMP:20200302T053559Z
END:VEVENT
END:VCALENDAR
