BEGIN:VCALENDAR
VERSION:2.0
METHOD:PUBLISH
BEGIN:VEVENT
UID:WILD_APRICOT_EVENT_739690_SESSION_1
DTSTART:20131012T020000Z
DTEND:20131012T043000Z
SUMMARY:Japanese Cooking Event & Wine tasting\, with chef Yoshiko Takeuchi
LOCATION:Harvey Norman-Domayne\, 84 O'Riordan St Alexandria
DESCRIPTION:http://australiajapansocietyofnsw.org.au/event-739690\n\n\nGet to know the healthiest side of Japanese cuisine from one of the experts.  Chef and cooking sensei Yoshiko Takeuchi\, from Healthy Soy Cooking\, will present to AJS-NSW members and guests in a Japanese cooking demonstration.  \nLearn about the best Nihon-Ryori ingredients and how to use them to make some practical and delicious plant-based Japanese cuisine.\n \n With a passion for food and health\, Yoshiko loves beautiful food and believes you don’t have to compromise on either good health or taste.\n \n A number of dishes will be prepared in front of you\, followed by the opportunity to try the dishes along with an organic wine tasting with wines provided by Robinvale Organic Wines. \n \n Yoshiko came to Australia to work with the famed Tetsuya and since then has established her own cooking school. She has published a book Cooking with Soy and has recently appeared on TV's The Biggest Loser as a healthy food expert.\n \n  \n \n \n
DTSTAMP:20200302T053457Z
END:VEVENT
END:VCALENDAR
