BEGIN:VCALENDAR
VERSION:2.0
METHOD:PUBLISH
BEGIN:VEVENT
UID:WILD_APRICOT_EVENT_835740_SESSION_1
DTSTART:20140219T070000Z
DTEND:20140219T100000Z
SUMMARY:Shaberanaito: in Japanese! 日本語でしゃべらナイト
LOCATION:International Nippon Australia New Zealand Club\, 229 Macquarie St Sydney
DESCRIPTION:http://australiajapansocietyofnsw.org.au/event-835740\n\n'Shaberanaito'\n  Japanese-speaking night！\n  Join us for the first Japanese-speaking night of 2014. Hone your Japanese skills over a relaxed dinner on Wednesday 19 February.\n\n  These evenings are always popular with members of JET Alumni Association (JETAA)\, the Japanese Society of Sydney and AJS-NSW members\, but anyone is welcome so bring your friends.\n\n  All levels are welcome - don’t worry if you are just a beginner of Japanese language\, this practice session will definitely assist you.\n\n  Great Japanese food is included in the price with drinks on your own account.\n\n  So sign up now for another fun night - and remember from 6pm it is Japanese speaking ONLY!\n  Contact us if you would like to provide a door prize.\n\nRegistrations are now open so sign up and pay online\, or download the form and send a cheque. 
DTSTAMP:20200302T053236Z
END:VEVENT
END:VCALENDAR
