BEGIN:VCALENDAR
VERSION:2.0
METHOD:PUBLISH
BEGIN:VEVENT
UID:WILD_APRICOT_EVENT_835751_SESSION_1
DTSTART:20140224T033000Z
DTEND:20140224T080000Z
SUMMARY:Supported Event: OUTLOOK FOR THE JAPANESE ECONOMY AND “ABENOMICS” Seminar
LOCATION:Ashurst\, Level 36 225 George St Sydney
DESCRIPTION:http://australiajapansocietyofnsw.org.au/event-835751\n\nAJS supports the Australia & Japan Economic Outlook Seminar 2014 which this year features as speaker Mr. Furusawa\, Vice-Minister for International Affairs at the Ministry of Finance.\n\n  The speakers and topics are as follows:\n\n          * Mr Mikio FURUSAWA\, Vice Minister for International Affairs\, MINISTRY OF FINANCE\, JAPAN\n\n        * \n\n\n        * INTERNATIONAL ECONOMIC DEVELOPMENTS\n\n        * \n   Mr Barry STERLAND PSM\, Executive Director\, International\, AUSTRALIAN TREASURY\n\n        * \n\n\n        * AUSTRALIA: ECONOMIC AND FINANCIAL OUTLOOK\n\n      * Mr Warren HOGAN\, Chief Economist\, ANZ\n\n\n        The conference will include a panel discussion and be followed by a cocktail reception. For details see flyer here. To sign up\, contact the organizers\, Australian & Japanese Economic Intelligence (AJEI) directly. \n
DTSTAMP:20200302T053210Z
END:VEVENT
END:VCALENDAR
