BEGIN:VCALENDAR
VERSION:2.0
METHOD:PUBLISH
BEGIN:VEVENT
UID:WILD_APRICOT_EVENT_835761_SESSION_1
DTSTART:20140322T060000Z
DTEND:20140322T080000Z
SUMMARY:Twilight Barefoot Bowling
LOCATION:North Sydney Bowling Club\, Ridge St North Sydney. (Near N. Sydney oval)
DESCRIPTION:http://australiajapansocietyofnsw.org.au/event-835761\n\n   \nAJS-NSW Social Event\n  (Supported by Japanese Society of Sydney & Japan Club of Sydney)\n     Twilight Barefoot Bowling   \n\n    Join AJS Members & their family & friends for a barefoot bowling\, drinks & chat party.\n  Don’t worry if you have never bowled! A Games Officer/Instructor will teach you how to play and enjoy the game.The bowling will be followed by drinks and light refreshments.\n  Access\n\n  * By Car: Parking Available in the Club or roadside\n\n  * By Public Transportation: Train or Bus to North Sydney\, then 20 minutes walk or Bus to Ridge St.\n        (Timetable: www.sydneybuses.info)\n \n Book as soon as possible.  Numbers are limited!!\n  Book and pay online or use the form and send a cheque.\n\n
DTSTAMP:20200302T053030Z
END:VEVENT
END:VCALENDAR
